BEGIN:VCALENDAR
VERSION:2.0
PRODID:-//Events with Cars - ECPv6.15.16.1//NONSGML v1.0//EN
CALSCALE:GREGORIAN
METHOD:PUBLISH
X-WR-CALNAME:Events with Cars
X-ORIGINAL-URL:https://eventswithcars.com
X-WR-CALDESC:Events for Events with Cars
REFRESH-INTERVAL;VALUE=DURATION:PT1H
X-Robots-Tag:noindex
X-PUBLISHED-TTL:PT1H
BEGIN:VTIMEZONE
TZID:America/Chicago
BEGIN:DAYLIGHT
TZOFFSETFROM:-0600
TZOFFSETTO:-0500
TZNAME:CDT
DTSTART:20250309T080000
END:DAYLIGHT
BEGIN:STANDARD
TZOFFSETFROM:-0500
TZOFFSETTO:-0600
TZNAME:CST
DTSTART:20251102T070000
END:STANDARD
BEGIN:DAYLIGHT
TZOFFSETFROM:-0600
TZOFFSETTO:-0500
TZNAME:CDT
DTSTART:20260308T080000
END:DAYLIGHT
BEGIN:STANDARD
TZOFFSETFROM:-0500
TZOFFSETTO:-0600
TZNAME:CST
DTSTART:20261101T070000
END:STANDARD
BEGIN:DAYLIGHT
TZOFFSETFROM:-0600
TZOFFSETTO:-0500
TZNAME:CDT
DTSTART:20270314T080000
END:DAYLIGHT
BEGIN:STANDARD
TZOFFSETFROM:-0500
TZOFFSETTO:-0600
TZNAME:CST
DTSTART:20271107T070000
END:STANDARD
END:VTIMEZONE
BEGIN:VTIMEZONE
TZID:America/New_York
BEGIN:DAYLIGHT
TZOFFSETFROM:-0500
TZOFFSETTO:-0400
TZNAME:EDT
DTSTART:20250309T070000
END:DAYLIGHT
BEGIN:STANDARD
TZOFFSETFROM:-0400
TZOFFSETTO:-0500
TZNAME:EST
DTSTART:20251102T060000
END:STANDARD
BEGIN:DAYLIGHT
TZOFFSETFROM:-0500
TZOFFSETTO:-0400
TZNAME:EDT
DTSTART:20260308T070000
END:DAYLIGHT
BEGIN:STANDARD
TZOFFSETFROM:-0400
TZOFFSETTO:-0500
TZNAME:EST
DTSTART:20261101T060000
END:STANDARD
BEGIN:DAYLIGHT
TZOFFSETFROM:-0500
TZOFFSETTO:-0400
TZNAME:EDT
DTSTART:20270314T070000
END:DAYLIGHT
BEGIN:STANDARD
TZOFFSETFROM:-0400
TZOFFSETTO:-0500
TZNAME:EST
DTSTART:20271107T060000
END:STANDARD
END:VTIMEZONE
BEGIN:VTIMEZONE
TZID:America/Los_Angeles
BEGIN:DAYLIGHT
TZOFFSETFROM:-0800
TZOFFSETTO:-0700
TZNAME:PDT
DTSTART:20250309T100000
END:DAYLIGHT
BEGIN:STANDARD
TZOFFSETFROM:-0700
TZOFFSETTO:-0800
TZNAME:PST
DTSTART:20251102T090000
END:STANDARD
BEGIN:DAYLIGHT
TZOFFSETFROM:-0800
TZOFFSETTO:-0700
TZNAME:PDT
DTSTART:20260308T100000
END:DAYLIGHT
BEGIN:STANDARD
TZOFFSETFROM:-0700
TZOFFSETTO:-0800
TZNAME:PST
DTSTART:20261101T090000
END:STANDARD
BEGIN:DAYLIGHT
TZOFFSETFROM:-0800
TZOFFSETTO:-0700
TZNAME:PDT
DTSTART:20270314T100000
END:DAYLIGHT
BEGIN:STANDARD
TZOFFSETFROM:-0700
TZOFFSETTO:-0800
TZNAME:PST
DTSTART:20271107T090000
END:STANDARD
END:VTIMEZONE
BEGIN:VEVENT
DTSTART;TZID=America/Chicago:20260425T090000
DTEND;TZID=America/Chicago:20260425T120000
DTSTAMP:20260423T043613
CREATED:20260420T085418Z
LAST-MODIFIED:20260420T085418Z
UID:10106793-1777107600-1777118400@eventswithcars.com
SUMMARY:Caffeine and Chrome - Gateway Classic Cars of Tulsa
DESCRIPTION:Step on the gas and join us at Gateway Classic Cars for Caffeine and Chrome on the last Saturday\,\n9am to 12pm. Warm up with hot coffee and donuts (while supplies last). Open to the public\, NO\nAdmission Fee\, and family/pet friendly.
URL:https://eventswithcars.com/event/caffeine-and-chrome-gateway-classic-cars-of-tulsa/
LOCATION:Gateway Classic Cars of Tulsa\, 10010 E 71st Street\, Tulsa\, OK\, 74133\, United States
CATEGORIES:Car Show,Cars & Coffee
ATTACH;FMTTYPE=image/jpeg:https://eventswithcars.com/wp-content/uploads/2026/04/CC2026Front-scaled.jpg
ORGANIZER;CN="Gateway Classic Cars of Tulsa":MAILTO:Marketing@gatewayclassiccars.com
END:VEVENT
BEGIN:VEVENT
DTSTART;TZID=America/New_York:20260425T090000
DTEND;TZID=America/New_York:20260425T120000
DTSTAMP:20260423T043613
CREATED:20260420T085436Z
LAST-MODIFIED:20260420T085436Z
UID:10106795-1777107600-1777118400@eventswithcars.com
SUMMARY:Caffeine and Chrome - Gateway Classic Cars of Charlotte
DESCRIPTION:Step on the gas and join us at Gateway Classic Cars for Caffeine and Chrome on the last Saturday\,\n9am to 12pm. Warm up with hot coffee and donuts (while supplies last). Open to the public\, NO\nAdmission Fee\, and family/pet friendly.
URL:https://eventswithcars.com/event/caffeine-and-chrome-gateway-classic-cars-of-charlotte/
LOCATION:Gateway Classic Cars of Charlotte\, 7045 Aviation Blvd NW\, Concord\, NC\, 28027\, United States
CATEGORIES:Caffeine and Chrome,Car Show,Cars & Coffee
ATTACH;FMTTYPE=image/jpeg:https://eventswithcars.com/wp-content/uploads/2026/04/CC2026Front-2-scaled.jpg
ORGANIZER;CN="Gateway Classic Cars of Charlotte":MAILTO:Marketing@gatewayclassiccars.com
END:VEVENT
BEGIN:VEVENT
DTSTART;TZID=America/Chicago:20260425T090000
DTEND;TZID=America/Chicago:20260425T120000
DTSTAMP:20260423T043613
CREATED:20260420T085446Z
LAST-MODIFIED:20260420T085446Z
UID:10106797-1777107600-1777118400@eventswithcars.com
SUMMARY:Caffeine and Chrome - Gateway Classic Cars of Houston
DESCRIPTION:Step on the gas and join us at Gateway Classic Cars for Caffeine and Chrome on the last Saturday\,\n9am to 12pm. Warm up with hot coffee and donuts (while supplies last). Open to the public\, NO\nAdmission Fee\, and family/pet friendly.
URL:https://eventswithcars.com/event/caffeine-and-chrome-gateway-classic-cars-of-houston/
LOCATION:Gateway Classic Cars of Houston\, 1910 Cypress Station Drive Suite 200\, Houston\, TX\, 77090\, United States
CATEGORIES:Caffeine and Chrome,Car Show,Cars & Coffee
ATTACH;FMTTYPE=image/jpeg:https://eventswithcars.com/wp-content/uploads/2026/04/CC2026Front-4-scaled.jpg
ORGANIZER;CN="Gateway Classic Cars of Houston":MAILTO:Marketing@gatewayclassiccars.com
END:VEVENT
BEGIN:VEVENT
DTSTART;TZID=America/Chicago:20260425T090000
DTEND;TZID=America/Chicago:20260425T120000
DTSTAMP:20260423T043613
CREATED:20260420T085449Z
LAST-MODIFIED:20260420T085449Z
UID:10106796-1777107600-1777118400@eventswithcars.com
SUMMARY:Caffeine and Chrome - Gateway Classic Cars of Chicago
DESCRIPTION:Step on the gas and join us at Gateway Classic Cars for Caffeine and Chrome on the last Saturday\,\n9am to 12pm. Warm up with hot coffee and donuts (while supplies last). Open to the public\, NO\nAdmission Fee\, and family/pet friendly.
URL:https://eventswithcars.com/event/caffeine-and-chrome-gateway-classic-cars-of-chicago/
LOCATION:Gateway Classic Cars of Chicago\, 1329 Commerce Drive\, Crete\, IL\, 60417\, United States
CATEGORIES:Caffeine and Chrome,Car Show,Cars & Coffee
ATTACH;FMTTYPE=image/jpeg:https://eventswithcars.com/wp-content/uploads/2026/04/CC2026Front-3-scaled.jpg
ORGANIZER;CN="Gateway Classic Cars of Chicago":MAILTO:Marketing@gatewayclassiccars.com
END:VEVENT
BEGIN:VEVENT
DTSTART;TZID=America/New_York:20260425T090000
DTEND;TZID=America/New_York:20260425T120000
DTSTAMP:20260423T043613
CREATED:20260420T085452Z
LAST-MODIFIED:20260420T085452Z
UID:10106799-1777107600-1777118400@eventswithcars.com
SUMMARY:Caffeine and Chrome - Gateway Classic Cars of Detroit
DESCRIPTION:Step on the gas and join us at Gateway Classic Cars for Caffeine and Chrome on the last Saturday\,\n9am to 12pm. Warm up with hot coffee and donuts (while supplies last). Open to the public\, NO\nAdmission Fee\, and family/pet friendly.
URL:https://eventswithcars.com/event/caffeine-and-chrome-gateway-classic-cars-of-detroit/
LOCATION:Gateway Classic Cars of Detroit\, 15011 South Commerce Drive\, Dearborn\, MI\, 48120\, United States
CATEGORIES:Caffeine and Chrome,Car Show,Cars & Coffee
ATTACH;FMTTYPE=image/jpeg:https://eventswithcars.com/wp-content/uploads/2026/04/CC2026Front-6-scaled.jpg
ORGANIZER;CN="Gateway Classic Cars of Detroit":MAILTO:Marketing@gatewayclassiccars.com
END:VEVENT
BEGIN:VEVENT
DTSTART;TZID=America/Chicago:20260425T090000
DTEND;TZID=America/Chicago:20260425T120000
DTSTAMP:20260423T043613
CREATED:20260420T085454Z
LAST-MODIFIED:20260420T085454Z
UID:10106798-1777107600-1777118400@eventswithcars.com
SUMMARY:Caffeine and Chrome - Gateway Classic Cars of Kansas City
DESCRIPTION:Step on the gas and join us at Gateway Classic Cars for Caffeine and Chrome on the last Saturday\,\n9am to 12pm. Warm up with hot coffee and donuts (while supplies last). Open to the public\, NO\nAdmission Fee\, and family/pet friendly.
URL:https://eventswithcars.com/event/caffeine-and-chrome-gateway-classic-cars-of-kansas-city/
LOCATION:Gateway Classic Cars of Kansas City\, 1202 South Lone Elm Road\, Olathe\, KS\, 66061\, United States
CATEGORIES:Caffeine and Chrome,Car Show,Cars & Coffee
ATTACH;FMTTYPE=image/jpeg:https://eventswithcars.com/wp-content/uploads/2026/04/CC2026Front-5-scaled.jpg
ORGANIZER;CN="Gateway Classic Cars of Kansas City":MAILTO:Marketing@gatewayclassiccars.com
END:VEVENT
BEGIN:VEVENT
DTSTART;TZID=America/Chicago:20260425T090000
DTEND;TZID=America/Chicago:20260425T120000
DTSTAMP:20260423T043613
CREATED:20260420T085459Z
LAST-MODIFIED:20260420T085459Z
UID:10106801-1777107600-1777118400@eventswithcars.com
SUMMARY:Caffeine and Chrome - Gateway Classic Cars of Nashville
DESCRIPTION:Step on the gas and join us at Gateway Classic Cars for Caffeine and Chrome on the last Saturday\,\n9am to 12pm. Warm up with hot coffee and donuts (while supplies last). Open to the public\, NO\nAdmission Fee\, and family/pet friendly.
URL:https://eventswithcars.com/event/caffeine-and-chrome-gateway-classic-cars-of-nashville/
LOCATION:Gateway Classic Cars of Nashville\, 704 Swan Drive\, Smyrna\, TN\, 37167\, United States
CATEGORIES:Caffeine and Chrome,Car Show,Cars & Coffee
ATTACH;FMTTYPE=image/jpeg:https://eventswithcars.com/wp-content/uploads/2026/04/CC2026Front-8-scaled.jpg
ORGANIZER;CN="Gateway Classic Cars of Nashville":MAILTO:Marketing@gatewayclassiccars.com
END:VEVENT
BEGIN:VEVENT
DTSTART;TZID=America/New_York:20260425T090000
DTEND;TZID=America/New_York:20260425T120000
DTSTAMP:20260423T043613
CREATED:20260420T085505Z
LAST-MODIFIED:20260420T085505Z
UID:10106802-1777107600-1777118400@eventswithcars.com
SUMMARY:Caffeine and Chrome - Gateway Classic Cars of Orlando
DESCRIPTION:Step on the gas and join us at Gateway Classic Cars for Caffeine and Chrome on the last Saturday\,\n9am to 12pm. Warm up with hot coffee and donuts (while supplies last). Open to the public\, NO\nAdmission Fee\, and family/pet friendly.
URL:https://eventswithcars.com/event/caffeine-and-chrome-gateway-classic-cars-of-orlando/
LOCATION:Gateway Classic Cars of Orlando\, 635 Century Point Suite 101\, Lake Mary\, FL\, 32746\, United States
CATEGORIES:Caffeine and Chrome,Car Show,Cars & Coffee
ATTACH;FMTTYPE=image/jpeg:https://eventswithcars.com/wp-content/uploads/2026/04/CC2026Front-9-scaled.jpg
ORGANIZER;CN="Gateway CLassic Cars of Orlando":MAILTO:Marketing@gatewayclassiccars.com
END:VEVENT
BEGIN:VEVENT
DTSTART;TZID=America/Chicago:20260425T090000
DTEND;TZID=America/Chicago:20260425T120000
DTSTAMP:20260423T043613
CREATED:20260420T085628Z
LAST-MODIFIED:20260420T085628Z
UID:10106800-1777107600-1777118400@eventswithcars.com
SUMMARY:Caffeine and Chrome - Gateway Classic Cars of Milwaukee
DESCRIPTION:Step on the gas and join us at Gateway Classic Cars for Caffeine and Chrome on the last Saturday\,\n9am to 12pm. Warm up with hot coffee and donuts (while supplies last). Open to the public\, NO\nAdmission Fee\, and family/pet friendly.
URL:https://eventswithcars.com/event/caffeine-and-chrome-gateway-classic-cars-of-milwaukee/
LOCATION:Gateway Classic Cars of Milaukee\, 9949 58th Place Suite 400\, Kenosha\, WI\, 53144\, United States
CATEGORIES:Caffeine and Chrome,Car Show,Cars & Coffee
ATTACH;FMTTYPE=image/jpeg:https://eventswithcars.com/wp-content/uploads/2026/04/CC2026Front-7-scaled.jpg
ORGANIZER;CN="Gateway Classic Cars of Milwaukee":MAILTO:Marketing@gatewayclassiccars.com
END:VEVENT
BEGIN:VEVENT
DTSTART;TZID=America/New_York:20260425T090000
DTEND;TZID=America/New_York:20260425T120000
DTSTAMP:20260423T043613
CREATED:20260420T090525Z
LAST-MODIFIED:20260420T090525Z
UID:10106806-1777107600-1777118400@eventswithcars.com
SUMMARY:Caffeine and Chrome - Gateway Classic Cars of Tampa
DESCRIPTION:In exchange for goody items we ask that you announce Gateway Classic Cars at your event.\n“Anyone with a vehicle for sale contact Gateway Classic Cars”\nPlease keep us in mind for your show again next year; we will be happy to show our support
URL:https://eventswithcars.com/event/caffeine-and-chrome-gateway-classic-cars-of-tampa/
LOCATION:Gateway Classic Cars of  Tampa\, 361 30th Street NE\, Ruskin\, FL\, 33570\, United States
CATEGORIES:Caffeine and Chrome,Car Show,Cars & Coffee
ATTACH;FMTTYPE=image/jpeg:https://eventswithcars.com/wp-content/uploads/2026/04/CC2026Front-13-scaled.jpg
ORGANIZER;CN="Gateway Classic Cars of Tampa":MAILTO:Marketing@gatewayclassiccars.com
END:VEVENT
BEGIN:VEVENT
DTSTART;TZID=America/Chicago:20260425T090000
DTEND;TZID=America/Chicago:20260425T120000
DTSTAMP:20260423T043613
CREATED:20260420T090532Z
LAST-MODIFIED:20260420T090532Z
UID:10106804-1777107600-1777118400@eventswithcars.com
SUMMARY:Caffeine and Chrome - Gateway Classic Cars of San Antonio
DESCRIPTION:In exchange for goody items we ask that you announce Gateway Classic Cars at your event.\n“Anyone with a vehicle for sale contact Gateway Classic Cars”\nPlease keep us in mind for your show again next year; we will be happy to show our support
URL:https://eventswithcars.com/event/caffeine-and-chrome-gateway-classic-cars-of-san-antonio/
LOCATION:Gateway Classic Cars of San Antonio\, 679 Holcan Drive Suite 105\, New Braunfels\, TX\, 78130\, United States
CATEGORIES:Caffeine and Chrome,Car Show,Cars & Coffee
ATTACH;FMTTYPE=image/jpeg:https://eventswithcars.com/wp-content/uploads/2026/04/CC2026Front-11-scaled.jpg
ORGANIZER;CN="Gateway Classic Cars of San Antonio":MAILTO:Marketing@gatewayclassiccars.com
END:VEVENT
BEGIN:VEVENT
DTSTART;TZID=America/Chicago:20260426T090000
DTEND;TZID=America/Chicago:20260426T120000
DTSTAMP:20260423T043613
CREATED:20260420T090541Z
LAST-MODIFIED:20260420T090541Z
UID:10106805-1777194000-1777204800@eventswithcars.com
SUMMARY:Caffeine and Chrome - Gateway Classic Cars of Scottsdale
DESCRIPTION:In exchange for goody items we ask that you announce Gateway Classic Cars at your event.\n“Anyone with a vehicle for sale contact Gateway Classic Cars”\nPlease keep us in mind for your show again next year; we will be happy to show our support
URL:https://eventswithcars.com/event/caffeine-and-chrome-gateway-classic-cars-of-scottsdale/
LOCATION:Gateway Classic Cars of Scottsdale\, 23305 North 23rd Avenue\, Deer Valley\, AZ\, 85027\, United States
CATEGORIES:Caffeine and Chrome,Car Show,Cars & Coffee
ATTACH;FMTTYPE=image/jpeg:https://eventswithcars.com/wp-content/uploads/2026/04/CC2026Front-12-scaled.jpg
ORGANIZER;CN="Gateway Classic Cars of Scottsdale":MAILTO:Marketing@gatewayclassiccars.com
END:VEVENT
BEGIN:VEVENT
DTSTART;TZID=America/Chicago:20260711T080000
DTEND;TZID=America/Chicago:20260711T170000
DTSTAMP:20260423T043613
CREATED:20260120T000338Z
LAST-MODIFIED:20260120T000338Z
UID:10106571-1783756800-1783789200@eventswithcars.com
SUMMARY:WAAAM Traffic Jam – July 11\, 2026
DESCRIPTION:WAAAM Air & Auto Museum is having their Annual Traffic Jam! This special car show brings together classic vehicles and hands-on fun all in one place. Registered participants and their guests will showcase their vintage cars while spectators are welcome to enjoy the museum\, view the vehicles up close\, and take part in a full day of activities. Enjoy food\, music\, family-friendly fun\, opportunities to ride in select historic vehicles\, and vote for your favorite old car. This fundraiser helps keep WAAAM’s engines running\, and there’s truly something for everyone to enjoy.
URL:https://eventswithcars.com/event/waaam-traffic-jam-july-11-2026/
LOCATION:Western Antique Aeroplane & Automobile Museum\, 1600 Air Museum Road\,\, Hood River\, OR\, 97031\, United States
CATEGORIES:Auto Show,Car Show
ATTACH;FMTTYPE=image/jpeg:https://eventswithcars.com/wp-content/uploads/2026/01/520173159_1326539849474708_5337949928021667350_n.jpg
ORGANIZER;CN="WAAAM Museum":MAILTO:events@waaamuseum.org
GEO:45.6738265;-121.5377542
X-APPLE-STRUCTURED-LOCATION;VALUE=URI;X-ADDRESS=Western Antique Aeroplane & Automobile Museum 1600 Air Museum Road Hood River OR 97031 United States;X-APPLE-RADIUS=500;X-TITLE=1600 Air Museum Road\,:geo:-121.5377542,45.6738265
END:VEVENT
BEGIN:VEVENT
DTSTART;TZID=America/Chicago:20260711T100000
DTEND;TZID=America/Chicago:20260711T140000
DTSTAMP:20260423T043613
CREATED:20260420T085912Z
LAST-MODIFIED:20260420T085912Z
UID:10106823-1783764000-1783778400@eventswithcars.com
SUMMARY:25th Annual Summer Classic Car Show
DESCRIPTION:Our car show in Stillwater returns for our 25th year together. It will be an All Makes\, Models\, and Years show which is sure to attract a huge crowd. The show runs from 10am-2pm. It is a Top 21 Format. There is a participant entry fee of $15 with participant voting. Must be present to win. This show is free to spectators. Northstar Camaro Club members who bring their Camaro will get in free. We plan to have two food trucks\, one is Yummy Tummy. \nIn celebration of our 25th anniversary\, we are excited to offer special door prizes during the event. Please note that attendees must be present at the time of the drawing to be eligible to win these exclusive prizes.
URL:https://eventswithcars.com/event/25th-annual-summer-classic-car-show/
LOCATION:Cornerstone Automotive Stillwater\, 5900 Stillwater Blvd.\, Stillwater\, MN\, 55082
CATEGORIES:Car Show
ATTACH;FMTTYPE=image/png:https://eventswithcars.com/wp-content/uploads/2026/04/Summer-Classic-Car-Show-Flyer-Stillwater-2026-1.png
END:VEVENT
BEGIN:VEVENT
DTSTART;VALUE=DATE:20260718
DTEND;VALUE=DATE:20260719
DTSTAMP:20260423T043613
CREATED:20260324T101043Z
LAST-MODIFIED:20260324T101043Z
UID:10106746-1784332800-1784419199@eventswithcars.com
SUMMARY:72nd Long Beach Model T Club Swap Meet
DESCRIPTION:Saturday July 18\, 2026\n72nd Annual Long Beach Model T Club Swap Meet. Since 1955\, the oldest and best old car and old Ford swap meet in the West! Spaces are available\, 20ft wide by 16ft deep $40 each or 3 for $100. $50 each day of event. Open to all makes and models\, automotive and hobby related items only. 5000 Lew Davis St. Long Beach City College Veterans Stadium. Admission $5\, free parking.\nNO DOGS-NO GUNS-NO WEAPONS Call Jeff Hood 562-597-5936 or flyers and registration forms at lbmtc.com
URL:https://eventswithcars.com/event/72nd-long-beach-model-t-club-swap-meet/
LOCATION:Long Beach City College Veterans Stadium\, 5000 Lew Davis St.\, Long Beach\, CA\, 90808\, United States
CATEGORIES:Swap Meet
ATTACH;FMTTYPE=image/jpeg:https://eventswithcars.com/wp-content/uploads/2026/03/IMG_0104-scaled.jpg
ORGANIZER;CN="Long Beach Model T Club":MAILTO:moemechanic@aol.com
GEO:33.8284291;-118.1368029
X-APPLE-STRUCTURED-LOCATION;VALUE=URI;X-ADDRESS=Long Beach City College Veterans Stadium 5000 Lew Davis St. Long Beach CA 90808 United States;X-APPLE-RADIUS=500;X-TITLE=5000 Lew Davis St.:geo:-118.1368029,33.8284291
END:VEVENT
BEGIN:VEVENT
DTSTART;TZID=America/Chicago:20260815T173000
DTEND;TZID=America/Chicago:20260815T203000
DTSTAMP:20260423T043613
CREATED:20260420T085909Z
LAST-MODIFIED:20260420T085909Z
UID:10106825-1786815000-1786825800@eventswithcars.com
SUMMARY:Turbo Tim's Summer Classic Car Show *Under the Stars*
DESCRIPTION:This will be our first car show here. All makes\, models\, and years are invited to this show (2375 Mounds View Blvd\, Mounds View\, MN 55112). $15 participant entry fee with participant voting. Free to current NCC members that bring their Camaro. The show is free to spectators. It is a Top 21 Award format and participants must be present to win. Turbo Tim’s ***Under the Stars** will run from 5:30 to 8:30pm. We will have one food truck.
URL:https://eventswithcars.com/event/turbo-tims-summer-classic-car-show-under-the-stars/
LOCATION:Turbo Tim’s Mounds View\, 2375 Mounds View Blvd.\, Mounds View\, MN\, 55112
CATEGORIES:Car Show
ATTACH;FMTTYPE=image/png:https://eventswithcars.com/wp-content/uploads/2026/04/Turbo-Tims-Summer-Classic-Under-the-Stars-Flyer-1.png
END:VEVENT
BEGIN:VEVENT
DTSTART;TZID=America/Chicago:20260919T100000
DTEND;TZID=America/Chicago:20260919T140000
DTSTAMP:20260423T043613
CREATED:20260420T085924Z
LAST-MODIFIED:20260420T085924Z
UID:10106824-1789812000-1789826400@eventswithcars.com
SUMMARY:Fall Classic Car Show–Caliber Collision
DESCRIPTION:Join us for our 2nd Annual fall car show with Caliber Collison. Our Fall Classic Car Show returns to Route 65 Sales & Classics (14954 Aberdeen St NE\, Han Lake\, MN 55304) All makes\, models\, and years are invited to attend. $15 participant entry fee–participant voting–Free to current NCC members that bring their Camaro. The show is free to spectators. It will be a Top 21 Award format. Participants must be present to receive their plaque. The show will run from 10am to 2pm. We will have one food truck\, Yummy Tummy and possibly a dessert truck.
URL:https://eventswithcars.com/event/fall-classic-car-show-caliber-collision-2/
LOCATION:Route 65 Sales & Classics\, 14954 Aberdeen Street Northeast\, Ham Lake\, MN\, 55304\, United States
CATEGORIES:Car Show
ATTACH;FMTTYPE=image/jpeg:https://eventswithcars.com/wp-content/uploads/2026/04/2026-Fall-Classic-Car-Show-scaled.jpg
GEO:45.2419386;-93.2335006
X-APPLE-STRUCTURED-LOCATION;VALUE=URI;X-ADDRESS=Route 65 Sales & Classics 14954 Aberdeen Street Northeast Ham Lake MN 55304 United States;X-APPLE-RADIUS=500;X-TITLE=14954 Aberdeen Street Northeast:geo:-93.2335006,45.2419386
END:VEVENT
END:VCALENDAR