BEGIN:VCALENDAR
VERSION:2.0
PRODID:-//Events with Cars - ECPv6.15.16.1//NONSGML v1.0//EN
CALSCALE:GREGORIAN
METHOD:PUBLISH
X-WR-CALNAME:Events with Cars
X-ORIGINAL-URL:https://eventswithcars.com
X-WR-CALDESC:Events for Events with Cars
REFRESH-INTERVAL;VALUE=DURATION:PT1H
X-Robots-Tag:noindex
X-PUBLISHED-TTL:PT1H
BEGIN:VTIMEZONE
TZID:America/Chicago
BEGIN:DAYLIGHT
TZOFFSETFROM:-0600
TZOFFSETTO:-0500
TZNAME:CDT
DTSTART:20190310T080000
END:DAYLIGHT
BEGIN:STANDARD
TZOFFSETFROM:-0500
TZOFFSETTO:-0600
TZNAME:CST
DTSTART:20191103T070000
END:STANDARD
BEGIN:DAYLIGHT
TZOFFSETFROM:-0600
TZOFFSETTO:-0500
TZNAME:CDT
DTSTART:20200308T080000
END:DAYLIGHT
BEGIN:STANDARD
TZOFFSETFROM:-0500
TZOFFSETTO:-0600
TZNAME:CST
DTSTART:20201101T070000
END:STANDARD
BEGIN:DAYLIGHT
TZOFFSETFROM:-0600
TZOFFSETTO:-0500
TZNAME:CDT
DTSTART:20210314T080000
END:DAYLIGHT
BEGIN:STANDARD
TZOFFSETFROM:-0500
TZOFFSETTO:-0600
TZNAME:CST
DTSTART:20211107T070000
END:STANDARD
BEGIN:DAYLIGHT
TZOFFSETFROM:-0600
TZOFFSETTO:-0500
TZNAME:CDT
DTSTART:20220313T080000
END:DAYLIGHT
BEGIN:STANDARD
TZOFFSETFROM:-0500
TZOFFSETTO:-0600
TZNAME:CST
DTSTART:20221106T070000
END:STANDARD
BEGIN:DAYLIGHT
TZOFFSETFROM:-0600
TZOFFSETTO:-0500
TZNAME:CDT
DTSTART:20230312T080000
END:DAYLIGHT
BEGIN:STANDARD
TZOFFSETFROM:-0500
TZOFFSETTO:-0600
TZNAME:CST
DTSTART:20231105T070000
END:STANDARD
BEGIN:DAYLIGHT
TZOFFSETFROM:-0600
TZOFFSETTO:-0500
TZNAME:CDT
DTSTART:20240310T080000
END:DAYLIGHT
BEGIN:STANDARD
TZOFFSETFROM:-0500
TZOFFSETTO:-0600
TZNAME:CST
DTSTART:20241103T070000
END:STANDARD
BEGIN:DAYLIGHT
TZOFFSETFROM:-0600
TZOFFSETTO:-0500
TZNAME:CDT
DTSTART:20250309T080000
END:DAYLIGHT
BEGIN:STANDARD
TZOFFSETFROM:-0500
TZOFFSETTO:-0600
TZNAME:CST
DTSTART:20251102T070000
END:STANDARD
BEGIN:DAYLIGHT
TZOFFSETFROM:-0600
TZOFFSETTO:-0500
TZNAME:CDT
DTSTART:20260308T080000
END:DAYLIGHT
BEGIN:STANDARD
TZOFFSETFROM:-0500
TZOFFSETTO:-0600
TZNAME:CST
DTSTART:20261101T070000
END:STANDARD
END:VTIMEZONE
BEGIN:VEVENT
DTSTART;VALUE=DATE:20251002
DTEND;VALUE=DATE:20251004
DTSTAMP:20260423T042037
CREATED:20241001T141952Z
LAST-MODIFIED:20241001T141952Z
UID:10059354-1759363200-1759535999@eventswithcars.com
SUMMARY:Fall Carlisle Collector Car Auction
DESCRIPTION:Join Carlisle Auctions for the Fall Carlisle Collector Car Auction on October 2-3\, 2025\, at the Carlisle Expo Center during Fall Carlisle! Featuring over 400 consignments\, this auction promises an exciting display of automotive history. Starting at 12PM each day\, bidders can participate by phone\, online\, or in person—making it accessible to everyone. Whether you’re an experienced collector or making your first purchase\, Carlisle Auctions’ expert team is here to ensure a seamless experience. With decades of knowledge\, they are ready to guide you in securing the best placement and pricing for your consignment. Don’t miss your chance to own a piece of history—REGISTER TO BID today!
URL:https://eventswithcars.com/event/fall-carlisle-collector-car-auction-6/
LOCATION:Carlisle Expo Center\, 100 K St\, Carlisle\, PA\, 17013\, United States
CATEGORIES:Auto Auction,Classic Car Auction,Collector Car Auction
ATTACH;FMTTYPE=image/jpeg:https://eventswithcars.com/wp-content/uploads/2024/10/FallAuction_Profile.jpg
ORGANIZER;CN="Carlisle Auctions":MAILTO:info@carlisleevents.com
GEO:40.2181291;-77.1908411
X-APPLE-STRUCTURED-LOCATION;VALUE=URI;X-ADDRESS=Carlisle Expo Center 100 K St Carlisle PA 17013 United States;X-APPLE-RADIUS=500;X-TITLE=100 K St:geo:-77.1908411,40.2181291
END:VEVENT
BEGIN:VEVENT
DTSTART;VALUE=DATE:20250424
DTEND;VALUE=DATE:20250426
DTSTAMP:20260423T042037
CREATED:20241001T140213Z
LAST-MODIFIED:20241001T140213Z
UID:10059346-1745452800-1745625599@eventswithcars.com
SUMMARY:Spring Carlisle Collector Car Auction
DESCRIPTION:Join Carlisle Auctions for the Spring Carlisle Collector Car Auction on April 24-25\, 2025\, at the Carlisle Expo Center during Spring Carlisle! Featuring over 400 consignments\, this auction promises an exciting display of automotive history. Starting at 12PM each day\, bidders can participate by phone\, online\, or in person—making it accessible to everyone. Whether you’re an experienced collector or making your first purchase\, Carlisle Auctions’ expert team is here to ensure a seamless experience. With decades of knowledge\, they are ready to guide you in securing the best placement and pricing for your consignment. Don’t miss your chance to own a piece of history—REGISTER TO BID today!
URL:https://eventswithcars.com/event/spring-carlisle-collector-car-auction-5/
LOCATION:Carlisle Expo Center\, 100 K St\, Carlisle\, PA\, 17013\, United States
CATEGORIES:Auto Auction,Classic Car Auction,Collector Car Auction
ATTACH;FMTTYPE=image/jpeg:https://eventswithcars.com/wp-content/uploads/2024/10/SpringAuction_Profile.jpg
ORGANIZER;CN="Carlisle Auctions":MAILTO:info@carlisleevents.com
GEO:40.2181291;-77.1908411
X-APPLE-STRUCTURED-LOCATION;VALUE=URI;X-ADDRESS=Carlisle Expo Center 100 K St Carlisle PA 17013 United States;X-APPLE-RADIUS=500;X-TITLE=100 K St:geo:-77.1908411,40.2181291
END:VEVENT
BEGIN:VEVENT
DTSTART;TZID=America/Chicago:20241003T120000
DTEND;TZID=America/Chicago:20241004T180000
DTSTAMP:20260423T042037
CREATED:20231129T160724Z
LAST-MODIFIED:20231129T160724Z
UID:10058118-1727956800-1728064800@eventswithcars.com
SUMMARY:Fall Carlisle Collector Car Auction
DESCRIPTION:Fall Carlisle Collector Car Auction\nOctober 3-4\, 2024\nCarlisle Expo Center – 100 K St.\, Carlisle\, PA 17013\nThursday – Friday: 12PM  \nDon’t miss the Fall Carlisle Collector Car Auction\, from October 3-4\, 2024\, at the Carlisle Expo Center during Fall Carlisle. With a remarkable lineup of over 400 consignments\, this auction promises a compelling showcase of automotive history. Starting sharply at 12 noon daily\, the auction offers buyers three seamless bidding options—phone\, online\, and in-person—ensuring accessibility for all. Whether you’re a seasoned collector or a first-time buyer\, the dedicated team at Carlisle Auctions brings decades of automotive expertise to the table\, committed to ensuring a flawless experience. Trust in their guidance to secure optimal placement and expected pricing for your consignment. If the pursuit of acquiring a timeless automobile beckons\, seize the opportunity—REGISTER TO BID today!
URL:https://eventswithcars.com/event/fall-carlisle-collector-car-auction-5/
LOCATION:Carlisle Expo Center\, 100 K St\, Carlisle\, PA\, 17013\, United States
CATEGORIES:Classic Car Auction,Collector Car Auction
ATTACH;FMTTYPE=image/png:https://eventswithcars.com/wp-content/uploads/2023/11/FallAuction_Profile.png
ORGANIZER;CN="Carlisle Auctions":MAILTO:info@carlisleevents.com
GEO:40.2181291;-77.1908411
X-APPLE-STRUCTURED-LOCATION;VALUE=URI;X-ADDRESS=Carlisle Expo Center 100 K St Carlisle PA 17013 United States;X-APPLE-RADIUS=500;X-TITLE=100 K St:geo:-77.1908411,40.2181291
END:VEVENT
BEGIN:VEVENT
DTSTART;TZID=America/Chicago:20240418T120000
DTEND;TZID=America/Chicago:20240419T180000
DTSTAMP:20260423T042037
CREATED:20231129T142826Z
LAST-MODIFIED:20231129T142826Z
UID:10058110-1713441600-1713549600@eventswithcars.com
SUMMARY:Spring Carlisle Collector Car Auction
DESCRIPTION:Spring Carlisle Collector Car Auction\nApril 18-19\, 2024\nCarlisle Expo Center – 100 K St.\, Carlisle\, PA 17013\nThursday – Friday: 12PM  \nDon’t miss the Spring Carlisle Collector Car Auction\, from April 18-19\, 2024\, at the Carlisle Expo Center during Spring Carlisle. With a remarkable lineup of over 400 consignments\, this auction promises a compelling showcase of automotive history. Starting sharply at 12 noon daily\, the auction offers buyers three seamless bidding options—phone\, online\, and in-person—ensuring accessibility for all. Whether you’re a seasoned collector or a first-time buyer\, the dedicated team at Carlisle Auctions brings decades of automotive expertise to the table\, committed to ensuring a flawless experience. Trust in their guidance to secure optimal placement and expected pricing for your consignment. If the pursuit of acquiring a timeless automobile beckons\, seize the opportunity—REGISTER TO BID today!
URL:https://eventswithcars.com/event/spring-carlisle-collector-car-auction-4/
LOCATION:Carlisle Expo Center\, 100 K St\, Carlisle\, PA\, 17013\, United States
CATEGORIES:Collector Car Auction
ATTACH;FMTTYPE=image/png:https://eventswithcars.com/wp-content/uploads/2023/11/SpringAuction_Profile.png
ORGANIZER;CN="Carlisle Auctions":MAILTO:info@carlisleevents.com
GEO:40.2181291;-77.1908411
X-APPLE-STRUCTURED-LOCATION;VALUE=URI;X-ADDRESS=Carlisle Expo Center 100 K St Carlisle PA 17013 United States;X-APPLE-RADIUS=500;X-TITLE=100 K St:geo:-77.1908411,40.2181291
END:VEVENT
BEGIN:VEVENT
DTSTART;VALUE=DATE:20231110
DTEND;VALUE=DATE:20231112
DTSTAMP:20260423T042037
CREATED:20221118T194620Z
LAST-MODIFIED:20221118T194620Z
UID:10055886-1699574400-1699747199@eventswithcars.com
SUMMARY:Lakeland Fall Collector Car Auction
DESCRIPTION:The Lakeland Fall Collector Car Auction is at the SUN ‘n FUN Expo Campus in Lakeland\, Florida. 400 consignments are anticipated at Lakeland Winter with Carlisle Auctions. The auction starts at 10:30 a.m. daily and with three convenient ways to bid (phone\, online and in-person) plus decades of automotive history available! Whether you want to consign a vehicle or bid\, visit CarlisleAuctions.com or speak with the Auction team at 717-960-6400.
URL:https://eventswithcars.com/event/lakeland-fall-collector-car-auction-2/
LOCATION:SUN n’ FUN\, 4175 Medulla Rd\, Lakeland\, FL\, 33811\, United States
CATEGORIES:Classic Car Auction,Collector Car Auction
ATTACH;FMTTYPE=image/png:https://eventswithcars.com/wp-content/uploads/2022/11/LakelandFall.png
ORGANIZER;CN="Carlisle Auctions":MAILTO:info@carlisleevents.com
GEO:27.982496;-82.0276316
X-APPLE-STRUCTURED-LOCATION;VALUE=URI;X-ADDRESS=SUN n’ FUN 4175 Medulla Rd Lakeland FL 33811 United States;X-APPLE-RADIUS=500;X-TITLE=4175 Medulla Rd:geo:-82.0276316,27.982496
END:VEVENT
BEGIN:VEVENT
DTSTART;VALUE=DATE:20230928
DTEND;VALUE=DATE:20230930
DTSTAMP:20260423T042037
CREATED:20221118T194440Z
LAST-MODIFIED:20221118T194440Z
UID:10055885-1695859200-1696031999@eventswithcars.com
SUMMARY:Fall Carlisle Collector Car Auction
DESCRIPTION:The Fall Carlisle Collector Car Auction is at the Carlisle Expo Center. 400+ consignments are anticipated to cross the block. The auction starts at 12 noon daily and with three convenient ways to bid (phone\, online and in-person) plus decades of automotive history available! Whether you want to consign a vehicle or bid\, visit CarlisleAuctions.com or speak with the Auction team at 717-960-6400.
URL:https://eventswithcars.com/event/fall-carlisle-collector-car-auction-4/
LOCATION:Carlisle Expo Center\, 100 K St\, Carlisle\, PA\, 17013\, United States
CATEGORIES:Classic Car Auction,Collector Car Auction
ATTACH;FMTTYPE=image/png:https://eventswithcars.com/wp-content/uploads/2022/11/FallAuction.png
ORGANIZER;CN="Carlisle Auctions":MAILTO:info@carlisleevents.com
GEO:40.2181291;-77.1908411
X-APPLE-STRUCTURED-LOCATION;VALUE=URI;X-ADDRESS=Carlisle Expo Center 100 K St Carlisle PA 17013 United States;X-APPLE-RADIUS=500;X-TITLE=100 K St:geo:-77.1908411,40.2181291
END:VEVENT
BEGIN:VEVENT
DTSTART;VALUE=DATE:20230927
DTEND;VALUE=DATE:20231002
DTSTAMP:20260423T042037
CREATED:20221118T194308Z
LAST-MODIFIED:20221118T194829Z
UID:10055880-1695772800-1696204799@eventswithcars.com
SUMMARY:Fall Carlisle
DESCRIPTION:This massive automotive flea market is one of the best opportunities to get your hands on all things automotive before the winter non-picking blues kicks in. With 8\,100 spaces of vendors selling a vast array of automotive parts\, accessories\, cars\, collectibles\, and memorabilia\, it’s almost certain that you won’t go home empty handed. Accompanied with the automotive flea market and car corral is the Manufacturers Midway featuring the latest and greatest products & services\, and a two-day auction presented by Carlisle Auctions across the street from September 28-29\, 2023. For more information on Fall Carlisle & to buy your discounted admission tickets\, visit https://carlisleevents.com/events/events-detail/index?id=fall+carlisle
URL:https://eventswithcars.com/event/fall-carlisle-4/
LOCATION:Carlisle Expo Center\, 100 K St\, Carlisle\, PA\, 17013\, United States
CATEGORIES:Collector Car Auction,Swap Meet
ATTACH;FMTTYPE=image/png:https://eventswithcars.com/wp-content/uploads/2022/11/Fall.png
ORGANIZER;CN="Carlisle Auctions":MAILTO:info@carlisleevents.com
GEO:40.2181291;-77.1908411
X-APPLE-STRUCTURED-LOCATION;VALUE=URI;X-ADDRESS=Carlisle Expo Center 100 K St Carlisle PA 17013 United States;X-APPLE-RADIUS=500;X-TITLE=100 K St:geo:-77.1908411,40.2181291
END:VEVENT
BEGIN:VEVENT
DTSTART;VALUE=DATE:20230420
DTEND;VALUE=DATE:20230422
DTSTAMP:20260423T042037
CREATED:20221118T193125Z
LAST-MODIFIED:20221118T193125Z
UID:10057469-1681948800-1682121599@eventswithcars.com
SUMMARY:Spring Carlisle Collector Car Auction
DESCRIPTION:The Spring Carlisle Collector Car Auction is at the Carlisle Expo Center. 400+ consignments are anticipated to cross the block. The auction starts at 12 noon daily and with three convenient ways to bid (phone\, online and in-person) plus decades of automotive history available! Whether you want to consign a vehicle or bid\, visit CarlisleAuctions.com or speak with the Auction team at 717-960-6400.
URL:https://eventswithcars.com/event/spring-carlisle-collector-car-auction-3/
LOCATION:Carlisle Expo Center\, 100 K St\, Carlisle\, PA\, 17013\, United States
CATEGORIES:Classic Car Auction,Collector Car Auction
ATTACH;FMTTYPE=image/png:https://eventswithcars.com/wp-content/uploads/2022/11/SpringCarlisleAuction.png
ORGANIZER;CN="Carlisle Auctions":MAILTO:info@carlisleevents.com
GEO:40.2181291;-77.1908411
X-APPLE-STRUCTURED-LOCATION;VALUE=URI;X-ADDRESS=Carlisle Expo Center 100 K St Carlisle PA 17013 United States;X-APPLE-RADIUS=500;X-TITLE=100 K St:geo:-77.1908411,40.2181291
END:VEVENT
BEGIN:VEVENT
DTSTART;VALUE=DATE:20230210
DTEND;VALUE=DATE:20230212
DTSTAMP:20260423T042037
CREATED:20221118T192758Z
LAST-MODIFIED:20221118T192758Z
UID:10057467-1675987200-1676159999@eventswithcars.com
SUMMARY:Lakeland Winter Collector Car Auction
DESCRIPTION:The Lakeland Winter Collector Car Auction is at the SUN ‘n FUN Expo Campus in Lakeland\, Florida. 400 consignments are anticipated at Lakeland Winter with Carlisle Auctions. The auction starts at 10:30 a.m. daily and with three convenient ways to bid (phone\, online and in-person) plus decades of automotive history available! Whether you want to consign a vehicle or bid\, visit CarlisleAuctions.com or speak with the Auction team at 717-960-6400.
URL:https://eventswithcars.com/event/lakeland-winter-collector-car-auction-3/
LOCATION:SUN n’ FUN\, 4175 Medulla Rd\, Lakeland\, FL\, 33811\, United States
CATEGORIES:Classic Car Auction,Collector Car Auction
ATTACH;FMTTYPE=image/png:https://eventswithcars.com/wp-content/uploads/2022/11/LakelandWinter-1.png
ORGANIZER;CN="Carlisle Auctions":MAILTO:info@carlisleevents.com
GEO:27.982496;-82.0276316
X-APPLE-STRUCTURED-LOCATION;VALUE=URI;X-ADDRESS=SUN n’ FUN 4175 Medulla Rd Lakeland FL 33811 United States;X-APPLE-RADIUS=500;X-TITLE=4175 Medulla Rd:geo:-82.0276316,27.982496
END:VEVENT
BEGIN:VEVENT
DTSTART;TZID=America/Chicago:20220929T120000
DTEND;TZID=America/Chicago:20220930T200000
DTSTAMP:20260423T042037
CREATED:20211014T184840Z
LAST-MODIFIED:20211014T184840Z
UID:10056876-1664452800-1664568000@eventswithcars.com
SUMMARY:Fall Carlisle Collector Car Auction
DESCRIPTION:Be part of the auction excitement on Thursday and Friday of Fall Carlisle at the neighboring Carlisle Expo Center for the ever-popular collector car auction. This auction sees over 400 classic and collector cars across the block. Online and Phone bidding options are available! Visit CarlisleAuctions.com or call us at 717-960-6400 for more information.
URL:https://eventswithcars.com/event/fall-carlisle-collector-car-auction-3/
LOCATION:Carlisle Expo Center\, 100 K St\, Carlisle\, PA\, 17013\, United States
CATEGORIES:Classic Car Auction,Collector Car Auction
ATTACH;FMTTYPE=image/png:https://eventswithcars.com/wp-content/uploads/2021/10/CarlisleAuctions-6.png
ORGANIZER;CN="Carlisle Auctions":MAILTO:info@carlisleevents.com
GEO:40.2181291;-77.1908411
X-APPLE-STRUCTURED-LOCATION;VALUE=URI;X-ADDRESS=Carlisle Expo Center 100 K St Carlisle PA 17013 United States;X-APPLE-RADIUS=500;X-TITLE=100 K St:geo:-77.1908411,40.2181291
END:VEVENT
BEGIN:VEVENT
DTSTART;TZID=America/Chicago:20220421T120000
DTEND;TZID=America/Chicago:20220422T200000
DTSTAMP:20260423T042037
CREATED:20211014T174819Z
LAST-MODIFIED:20211014T174819Z
UID:10055288-1650542400-1650657600@eventswithcars.com
SUMMARY:Spring Carlisle Collector Car Auction
DESCRIPTION:Be part of the auction excitement on Thursday and Friday of Spring Carlisle at the neighboring Carlisle Expo Center for the ever-popular collector car auction. This auction sees over 400 classic and collector cars across the block. Online and Phone bidding options are available! Visit CarlisleAuctions.com or call us at 717-960-6400 for more information.
URL:https://eventswithcars.com/event/spring-carlisle-collector-car-auction-2/
LOCATION:Carlisle Expo Center\, 100 K St\, Carlisle\, PA\, 17013\, United States
CATEGORIES:Classic Car Auction,Collector Car Auction
ATTACH;FMTTYPE=image/png:https://eventswithcars.com/wp-content/uploads/2021/10/CarlisleAuctions-5.png
ORGANIZER;CN="Carlisle Auctions":MAILTO:info@carlisleevents.com
GEO:40.2181291;-77.1908411
X-APPLE-STRUCTURED-LOCATION;VALUE=URI;X-ADDRESS=Carlisle Expo Center 100 K St Carlisle PA 17013 United States;X-APPLE-RADIUS=500;X-TITLE=100 K St:geo:-77.1908411,40.2181291
END:VEVENT
BEGIN:VEVENT
DTSTART;TZID=America/Chicago:20220225T103000
DTEND;TZID=America/Chicago:20220226T190000
DTSTAMP:20260423T042037
CREATED:20211014T174102Z
LAST-MODIFIED:20211014T174102Z
UID:10055283-1645785000-1645902000@eventswithcars.com
SUMMARY:Lakeland Winter Collector Car Auction
DESCRIPTION:Be part of the auction excitement in Lakeland\, FL at the Sun N’ Fun Campus. This auction will see over 400 classic and collector cars across the block. Online and Phone bidding options are available! Visit CarlisleAuctions.com or call us at 717-960-6400 for more information.
URL:https://eventswithcars.com/event/lakeland-winter-collector-car-auction-2/
LOCATION:SUN n’ FUN\, 4175 Medulla Rd\, Lakeland\, FL\, 33811\, United States
CATEGORIES:Classic Car Auction,Collector Car Auction
ATTACH;FMTTYPE=image/png:https://eventswithcars.com/wp-content/uploads/2021/10/CarlisleAuctions-4.png
ORGANIZER;CN="Carlisle Auctions":MAILTO:info@carlisleevents.com
GEO:27.982496;-82.0276316
X-APPLE-STRUCTURED-LOCATION;VALUE=URI;X-ADDRESS=SUN n’ FUN 4175 Medulla Rd Lakeland FL 33811 United States;X-APPLE-RADIUS=500;X-TITLE=4175 Medulla Rd:geo:-82.0276316,27.982496
END:VEVENT
BEGIN:VEVENT
DTSTART;TZID=America/Chicago:20211112T103000
DTEND;TZID=America/Chicago:20211113T190000
DTSTAMP:20260423T042037
CREATED:20211014T172702Z
LAST-MODIFIED:20211014T172825Z
UID:10055263-1636713000-1636830000@eventswithcars.com
SUMMARY:Lakeland Fall Collector Car Auction
DESCRIPTION:Be part of the auction excitement in Lakeland\, FL at the Sun N’ Fun Campus. This auction will see over 400 classic and collector cars across the block. Online and Phone bidding options are available! Visit CarlisleAuctions.com or call us at 717-960-6400 for more information.
URL:https://eventswithcars.com/event/lakeland-fall-collector-car-auction/
LOCATION:SUN n’ FUN\, 4175 Medulla Rd\, Lakeland\, FL\, 33811\, United States
CATEGORIES:Classic Car Auction,Collector Car Auction
ATTACH;FMTTYPE=image/png:https://eventswithcars.com/wp-content/uploads/2021/10/CarlisleAuctions-3.png
ORGANIZER;CN="Carlisle Auctions":MAILTO:info@carlisleevents.com
GEO:27.982496;-82.0276316
X-APPLE-STRUCTURED-LOCATION;VALUE=URI;X-ADDRESS=SUN n’ FUN 4175 Medulla Rd Lakeland FL 33811 United States;X-APPLE-RADIUS=500;X-TITLE=4175 Medulla Rd:geo:-82.0276316,27.982496
END:VEVENT
BEGIN:VEVENT
DTSTART;TZID=America/Chicago:20210930T120000
DTEND;TZID=America/Chicago:20211001T220000
DTSTAMP:20260423T042037
CREATED:20201124T164721Z
LAST-MODIFIED:20201124T164721Z
UID:10053776-1633003200-1633125600@eventswithcars.com
SUMMARY:Fall Carlisle Collector Car Auction
DESCRIPTION:Be part of the auction excitement on Thursday and Friday of Fall Carlisle at the neighboring Carlisle Expo Center for the ever-popular collector car auction. This auction sees over 400 classic and collector cars across the block. Online and Phone bidding options are available! Visit CarlisleAuctions.com or call us at 717-960-6400 for more information.
URL:https://eventswithcars.com/event/fall-carlisle-collector-car-auction-2/
LOCATION:Carlisle Expo Center\, 100 K St\, Carlisle\, PA\, 17013\, United States
CATEGORIES:Classic Car Auction,Collector Car Auction
ATTACH;FMTTYPE=image/png:https://eventswithcars.com/wp-content/uploads/2020/11/auction_092120-12.png
ORGANIZER;CN="Carlisle Auctions":MAILTO:info@carlisleevents.com
GEO:40.2181291;-77.1908411
X-APPLE-STRUCTURED-LOCATION;VALUE=URI;X-ADDRESS=Carlisle Expo Center 100 K St Carlisle PA 17013 United States;X-APPLE-RADIUS=500;X-TITLE=100 K St:geo:-77.1908411,40.2181291
END:VEVENT
BEGIN:VEVENT
DTSTART;TZID=America/Chicago:20210626T100000
DTEND;TZID=America/Chicago:20210626T170000
DTSTAMP:20260423T042037
CREATED:20201124T161834Z
LAST-MODIFIED:20201124T162020Z
UID:10053769-1624701600-1624726800@eventswithcars.com
SUMMARY:Carlisle Auctions Summer Sale
DESCRIPTION:Be part of the auction excitement on Saturday of Carlisle GM Nationals at the neighboring Carlisle Expo Center for the ever-popular collector car auction. This auction sees over 200 classic and collector cars across the block. Online and Phone bidding options are available! Visit CarlisleAuctions.com or call us at 717-960-6400 for more information.
URL:https://eventswithcars.com/event/carlisle-auctions-summer-sale/
LOCATION:Carlisle Expo Center\, 100 K St\, Carlisle\, PA\, 17013\, United States
CATEGORIES:Classic Car Auction,Collector Car Auction
ATTACH;FMTTYPE=image/png:https://eventswithcars.com/wp-content/uploads/2020/11/auction_092120-11.png
ORGANIZER;CN="Carlisle Auctions":MAILTO:info@carlisleevents.com
GEO:40.2181291;-77.1908411
X-APPLE-STRUCTURED-LOCATION;VALUE=URI;X-ADDRESS=Carlisle Expo Center 100 K St Carlisle PA 17013 United States;X-APPLE-RADIUS=500;X-TITLE=100 K St:geo:-77.1908411,40.2181291
END:VEVENT
BEGIN:VEVENT
DTSTART;TZID=America/Chicago:20210422T120000
DTEND;TZID=America/Chicago:20210423T220000
DTSTAMP:20260423T042037
CREATED:20201124T153127Z
LAST-MODIFIED:20201124T153323Z
UID:10055952-1619092800-1619215200@eventswithcars.com
SUMMARY:Spring Carlisle Collector Car Auction
DESCRIPTION:Be part of the auction excitement on Thursday and Friday of Spring Carlisle at the neighboring Carlisle Expo Center for the ever-popular collector car auction. This auction sees over 400 classic and collector cars across the block. Online and Phone bidding options are available! Visit CarlisleAuctions.com or call us at 717-960-6400 for more information.
URL:https://eventswithcars.com/event/spring-carlisle-collector-car-auction/
LOCATION:Carlisle Expo Center\, 100 K St\, Carlisle\, PA\, 17013\, United States
CATEGORIES:Classic Car Auction,Collector Car Auction
ATTACH;FMTTYPE=image/png:https://eventswithcars.com/wp-content/uploads/2020/11/auction_092120-4.png
ORGANIZER;CN="Carlisle Auctions":MAILTO:info@carlisleevents.com
GEO:40.2181291;-77.1908411
X-APPLE-STRUCTURED-LOCATION;VALUE=URI;X-ADDRESS=Carlisle Expo Center 100 K St Carlisle PA 17013 United States;X-APPLE-RADIUS=500;X-TITLE=100 K St:geo:-77.1908411,40.2181291
END:VEVENT
BEGIN:VEVENT
DTSTART;TZID=America/Chicago:20201001T120000
DTEND;TZID=America/Chicago:20201002T200000
DTSTAMP:20260423T042037
CREATED:20191113T180205Z
LAST-MODIFIED:20191117T222022Z
UID:10049741-1601553600-1601668800@eventswithcars.com
SUMMARY:Fall Carlisle Collector Car Auction
DESCRIPTION:Be part of the auction excitement at the Fall Carlisle Collector Car Auction held at the Carlisle Expo Center in Carlisle\, PA. This 2-day auction sees 500+ classic and collector cars across the block! In conjunction with the auction is the neighboring Fall Carlisle\, a massive automotive flea market! Register to bid or consign at www.carlisleauctions.com
URL:https://eventswithcars.com/event/fall-carlisle-collector-car-auction/
LOCATION:Carlisle Expo Center\, 100 K St\, Carlisle\, PA\, 17013\, United States
CATEGORIES:Classic Car Auction,Collector Car Auction,Swap Meet
ATTACH;FMTTYPE=image/jpeg:https://eventswithcars.com/wp-content/uploads/2019/11/CA_FC_AW-2019_003-scaled.jpg
ORGANIZER;CN="Carlisle Auctions":MAILTO:info@carlisleevents.com
GEO:40.2181291;-77.1908411
X-APPLE-STRUCTURED-LOCATION;VALUE=URI;X-ADDRESS=Carlisle Expo Center 100 K St Carlisle PA 17013 United States;X-APPLE-RADIUS=500;X-TITLE=100 K St:geo:-77.1908411,40.2181291
END:VEVENT
BEGIN:VEVENT
DTSTART;TZID=America/Chicago:20200617T070000
DTEND;TZID=America/Chicago:20200620T180000
DTSTAMP:20260423T042037
CREATED:20200414T170643Z
LAST-MODIFIED:20200414T170643Z
UID:10053782-1592377200-1592676000@eventswithcars.com
SUMMARY:RESCHEDULED: Spring Carlisle
DESCRIPTION:Spring Carlisle is one of the largest automotive flea markets in the world and one of the best opportunities to get your hands on all things automotive. With 8\,100 spaces of vendors selling a vast array of automotive parts\, accessories\, cars\, collectibles and memorabilia\, it’s almost certain that you won’t go home empty handed. Accompanied with the massive automotive flea market and car corral\, is the Manufacturers Midway featuring the latest and greatest products & services\, and a two-day auction presented by Carlisle Auctions across the street! The Auction will take place from June 18-19 at the Carlisle Expo Center.
URL:https://eventswithcars.com/event/rescheduled-spring-carlisle/
LOCATION:Carlisle PA Fairgrounds\, 1000 Bryn Mawr Road\, Carlisle\, PA\, 17013\, United States
CATEGORIES:Antique Car Auction,Auto Auction,Classic Car Auction,Collector Car Auction,Swap Meet
ATTACH;FMTTYPE=image/jpeg:https://eventswithcars.com/wp-content/uploads/2020/04/Spring-June-Dates.jpg
ORGANIZER;CN="Carlisle Events":MAILTO:info@carlisleevents.com
GEO:40.2182663;-77.1840593
X-APPLE-STRUCTURED-LOCATION;VALUE=URI;X-ADDRESS=Carlisle PA Fairgrounds 1000 Bryn Mawr Road Carlisle PA 17013 United States;X-APPLE-RADIUS=500;X-TITLE=1000 Bryn Mawr Road:geo:-77.1840593,40.2182663
END:VEVENT
BEGIN:VEVENT
DTSTART;TZID=America/Chicago:20200221T103000
DTEND;TZID=America/Chicago:20200222T180000
DTSTAMP:20260423T042037
CREATED:20191113T173548Z
LAST-MODIFIED:20191113T173548Z
UID:10049738-1582281000-1582394400@eventswithcars.com
SUMMARY:Lakeland Winter Collector Car Auction
DESCRIPTION:Be part of the auction excitement at Winter AutoFest Lakeland at the SUN ‘n FUN Campus for the ever-popular 2-day collector car auction. The event showcases 400+ classic and collector cars! In conjunction with the auction is a cruise-in\, car show\, automotive flea market and more! Register to bid or consign at www.carlisleauctions.com
URL:https://eventswithcars.com/event/lakeland-winter-collector-car-auction/
LOCATION:SUN n’ FUN\, 4175 Medulla Rd\, Lakeland\, FL\, 33811\, United States
CATEGORIES:Auto Auction,Car Show,Classic Car Auction,Collector Car Auction,Cruise-In,Swap Meet
ATTACH;FMTTYPE=image/jpeg:https://eventswithcars.com/wp-content/uploads/2019/11/RWS_6083-scaled.jpg
ORGANIZER;CN="Carlisle Auctions":MAILTO:info@carlisleevents.com
GEO:27.982496;-82.0276316
X-APPLE-STRUCTURED-LOCATION;VALUE=URI;X-ADDRESS=SUN n’ FUN 4175 Medulla Rd Lakeland FL 33811 United States;X-APPLE-RADIUS=500;X-TITLE=4175 Medulla Rd:geo:-82.0276316,27.982496
END:VEVENT
END:VCALENDAR